BEGIN:VCALENDAR
VERSION:2.0
PRODID:-//Equilibrium Zone - ECPv6.15.20//NONSGML v1.0//EN
CALSCALE:GREGORIAN
METHOD:PUBLISH
X-ORIGINAL-URL:https://equilibriumzone.org
X-WR-CALDESC:Events for Equilibrium Zone
REFRESH-INTERVAL;VALUE=DURATION:PT1H
X-Robots-Tag:noindex
X-PUBLISHED-TTL:PT1H
BEGIN:VTIMEZONE
TZID:Africa/Lagos
BEGIN:STANDARD
TZOFFSETFROM:+0100
TZOFFSETTO:+0100
TZNAME:WAT
DTSTART:20240101T000000
END:STANDARD
END:VTIMEZONE
BEGIN:VEVENT
DTSTART;TZID=Africa/Lagos:20250529T160000
DTEND;TZID=Africa/Lagos:20250529T170000
DTSTAMP:20260420T215434
CREATED:20260201T144157Z
LAST-MODIFIED:20260201T144157Z
UID:17639-1748534400-1748538000@equilibriumzone.org
SUMMARY:How to Access Free Resources to Grow Your Startup in the Early Days -
DESCRIPTION:Are you a startup or entrepreneur that wants to explore ways on how you can access free resources such as mentorship programs\, online tools\, educational platforms\, and networking communities. This webinar leverages is on maximizing growth\, building traction\, and utilizing what’s available at no cost.
URL:https://equilibriumzone.org/event/how-to-access-free-resources-to-grow-your-startup-in-the-early-days/
LOCATION:Online (Google Meet)
END:VEVENT
BEGIN:VEVENT
DTSTART;TZID=Africa/Lagos:20250529T160000
DTEND;TZID=Africa/Lagos:20250529T170000
DTSTAMP:20260420T215434
CREATED:20260414T100713Z
LAST-MODIFIED:20260414T124857Z
UID:18029-1748534400-1748538000@equilibriumzone.org
SUMMARY:How to Access Free Resources to Grow Your Startup in the Early Days
DESCRIPTION:To join this webinar\, please fill out the form below to join our Founders Community (link to this webinar will be shared on the founders community)\nAre you a startup or entrepreneur that wants to explore ways on how you can access free resources such as mentorship programs\, online tools\, educational platforms\, and networking communities. This webinar leverages is on maximizing growth\, building traction\, and utilizing what’s available at no cost.
URL:https://equilibriumzone.org/event/how-to-access-free-resources-to-grow-your-startup-in-the-early-days-2/
LOCATION:Online (Google Meet)
ATTACH;FMTTYPE=image/webp:https://equilibriumzone.org/wp-content/uploads/2026/04/imgi_2_508757770_18352439992158534_6750033304340436610_n.webp
END:VEVENT
END:VCALENDAR