BEGIN:VCALENDAR
VERSION:2.0
PRODID:-//Equilibrium Zone - ECPv6.15.20//NONSGML v1.0//EN
CALSCALE:GREGORIAN
METHOD:PUBLISH
X-ORIGINAL-URL:https://equilibriumzone.org
X-WR-CALDESC:Events for Equilibrium Zone
REFRESH-INTERVAL;VALUE=DURATION:PT1H
X-Robots-Tag:noindex
X-PUBLISHED-TTL:PT1H
BEGIN:VTIMEZONE
TZID:Africa/Lagos
BEGIN:STANDARD
TZOFFSETFROM:+0100
TZOFFSETTO:+0100
TZNAME:WAT
DTSTART:20240101T000000
END:STANDARD
END:VTIMEZONE
BEGIN:VEVENT
DTSTART;TZID=Africa/Lagos:20250605T160000
DTEND;TZID=Africa/Lagos:20250605T170000
DTSTAMP:20260420T220927
CREATED:20260414T090734Z
LAST-MODIFIED:20260414T130450Z
UID:18026-1749139200-1749142800@equilibriumzone.org
SUMMARY:Hiring Your First Team Member - How To Build Loyalty Before You Can Afford Salaries
DESCRIPTION:Building a loyal and high-performing team doesn’t happen by chance—it’s intentional. \nJoin us at the upcoming EZ Founders Community Webinar\, where we’ll explore what it really takes to build a team that believes in your vision and grows with your business. \nIn this session\, you’ll learn how to:\n• Get your team to genuinely buy into your vision as a founder\n• Hire people who align with your company’s values\n• Recognize and reward exceptional contributions\n• Create a culture where every team member feels valued\n• Support continuous growth through training and learning opportunities \nIf you’re serious about building a committed and motivated team\, this session is one you don’t want to miss.\nTo join this webinar\, please fill out the form below to join our Founders Community (link to this webinar will be shared on the founders community)\nThis webinar will bring together early-stage founders\, aspiring entrepreneurs\, and startup operators to explore how to attract and retain early team members when funding is still limited.
URL:https://equilibriumzone.org/event/hiring-your-first-team-member-how-to-build-loyalty-before-you-can-afford-salaries-2/
LOCATION:Online (Google Meet)
ATTACH;FMTTYPE=image/webp:https://equilibriumzone.org/wp-content/uploads/2026/04/imgi_2_504160608_18326142199205219_3271798859095820341_n.webp
END:VEVENT
END:VCALENDAR