BEGIN:VCALENDAR
VERSION:2.0
PRODID:-//Equilibrium Zone - ECPv6.15.20//NONSGML v1.0//EN
CALSCALE:GREGORIAN
METHOD:PUBLISH
X-WR-CALNAME:Equilibrium Zone
X-ORIGINAL-URL:https://equilibriumzone.org
X-WR-CALDESC:Events for Equilibrium Zone
REFRESH-INTERVAL;VALUE=DURATION:PT1H
X-Robots-Tag:noindex
X-PUBLISHED-TTL:PT1H
BEGIN:VTIMEZONE
TZID:Africa/Lagos
BEGIN:STANDARD
TZOFFSETFROM:+0100
TZOFFSETTO:+0100
TZNAME:WAT
DTSTART:20240101T000000
END:STANDARD
END:VTIMEZONE
BEGIN:VEVENT
DTSTART;TZID=Africa/Lagos:20250807T160000
DTEND;TZID=Africa/Lagos:20250807T170000
DTSTAMP:20260420T190029
CREATED:20260414T105306Z
LAST-MODIFIED:20260414T113424Z
UID:18050-1754582400-1754586000@equilibriumzone.org
SUMMARY:Stop Marketing to Everyone: How to Find & Focus on the Right Audience First Without Burning Your Budget
DESCRIPTION:This webinar is to provide founders with the knowledge to prepare themselves and their businesses for funding opportunities\, understand investor expectations\, and connect with the right kind of capital in this new market.
URL:https://equilibriumzone.org/event/stop-marketing-to-everyone-how-to-find-focus-on-the-right-audience-first-without-burning-your-budget/
LOCATION:Online (Google Meet)
ATTACH;FMTTYPE=image/webp:https://equilibriumzone.org/wp-content/uploads/2026/04/imgi_2_525894753_18357824212158534_7850219491631057653_n.webp
END:VEVENT
END:VCALENDAR