BEGIN:VCALENDAR
VERSION:2.0
PRODID:-//Equilibrium Zone - ECPv6.15.20//NONSGML v1.0//EN
CALSCALE:GREGORIAN
METHOD:PUBLISH
X-WR-CALNAME:Equilibrium Zone
X-ORIGINAL-URL:https://equilibriumzone.org
X-WR-CALDESC:Events for Equilibrium Zone
REFRESH-INTERVAL;VALUE=DURATION:PT1H
X-Robots-Tag:noindex
X-PUBLISHED-TTL:PT1H
BEGIN:VTIMEZONE
TZID:Africa/Lagos
BEGIN:STANDARD
TZOFFSETFROM:+0100
TZOFFSETTO:+0100
TZNAME:WAT
DTSTART:20240101T000000
END:STANDARD
END:VTIMEZONE
BEGIN:VEVENT
DTSTART;TZID=Africa/Lagos:20250828T160000
DTEND;TZID=Africa/Lagos:20250828T170000
DTSTAMP:20260420T184744
CREATED:20260414T084314Z
LAST-MODIFIED:20260414T112027Z
UID:18018-1756396800-1756400400@equilibriumzone.org
SUMMARY:Navigating the Startup Funding Landscape in 2025: What Investors Are Really Looking For Thursday\, August 28th
DESCRIPTION:Founders\, are you ready to unlock funding in 2025?\nThe startup game is evolving fast\, do you know what investors really want now? \nJoin us for an exclusive webinar with Kunle Akinola\, a Senior Investment Associate\, as we break down the secrets to raising capital in the coming year.  \nThis webinar is to provide founders with the knowledge to prepare themselves and their businesses for funding opportunities\, understand investor expectations\, and connect with the right kind of capital in this new market.
URL:https://equilibriumzone.org/event/navigating-the-startup-funding-landscape-in-2025-what-investors-are-really-looking-for-thursday-august-28th/
LOCATION:Online (Google Meet)
ATTACH;FMTTYPE=image/webp:https://equilibriumzone.org/wp-content/uploads/2026/04/imgi_3_539251308_18360088087158534_401006111211569936_n.webp
END:VEVENT
END:VCALENDAR