BEGIN:VCALENDAR
VERSION:2.0
PRODID:-//Equilibrium Zone - ECPv6.15.20//NONSGML v1.0//EN
CALSCALE:GREGORIAN
METHOD:PUBLISH
X-WR-CALNAME:Equilibrium Zone
X-ORIGINAL-URL:https://equilibriumzone.org
X-WR-CALDESC:Events for Equilibrium Zone
REFRESH-INTERVAL;VALUE=DURATION:PT1H
X-Robots-Tag:noindex
X-PUBLISHED-TTL:PT1H
BEGIN:VTIMEZONE
TZID:Africa/Lagos
BEGIN:STANDARD
TZOFFSETFROM:+0100
TZOFFSETTO:+0100
TZNAME:WAT
DTSTART:20240101T000000
END:STANDARD
END:VTIMEZONE
BEGIN:VEVENT
DTSTART;TZID=Africa/Lagos:20250704T160000
DTEND;TZID=Africa/Lagos:20250704T170000
DTSTAMP:20260420T185458
CREATED:20260414T124206Z
LAST-MODIFIED:20260414T124350Z
UID:18080-1751644800-1751648400@equilibriumzone.org
SUMMARY:How to Build Strategic Partnerships as a Startup Founder.
DESCRIPTION:Unlock Startup Growth through EZ Founders Community Webinar on Strategic Partnerships! 🚀\nLearn how to build powerful collaborations from the experts\, OLUWAMAYOWA OSHIDERO & DESTINY AGBANIMU\nDon’t miss out on game-changing insights!
URL:https://equilibriumzone.org/event/how-to-build-strategic-partnerships-as-a-startup-founder/
LOCATION:Online (Google Meet)
ATTACH;FMTTYPE=image/webp:https://equilibriumzone.org/wp-content/uploads/2026/04/imgi_2_524362468_18357140599158534_4613668743292479139_n.webp
END:VEVENT
BEGIN:VEVENT
DTSTART;TZID=Africa/Lagos:20250726T160000
DTEND;TZID=Africa/Lagos:20250726T170000
DTSTAMP:20260420T185458
CREATED:20260201T143431Z
LAST-MODIFIED:20260201T143431Z
UID:17625-1753545600-1753549200@equilibriumzone.org
SUMMARY:Legal Foundation 101: How To Decide On Co-founding Terms & Ownership Split For Your Startup.
DESCRIPTION:
URL:https://equilibriumzone.org/event/legal-foundation-101-how-to-decide-on-co-founding-terms-ownership-split-for-your-startup/
LOCATION:4:00-5:00PM
END:VEVENT
BEGIN:VEVENT
DTSTART;TZID=Africa/Lagos:20250726T160000
DTEND;TZID=Africa/Lagos:20250726T170000
DTSTAMP:20260420T185458
CREATED:20260414T090333Z
LAST-MODIFIED:20260414T124623Z
UID:18023-1753545600-1753549200@equilibriumzone.org
SUMMARY:Legal Foundation 101: How To Decide On Co-founding Terms & Ownership Split For Your Startup.
DESCRIPTION:In this session\, you’ll learn the key considerations for structuring cofounding agreements\, how to approach ownership splits fairly\, and the legal pitfalls to avoid early on. Whether you’re just forming your team or revisiting your current terms\, this webinar will equip you with the knowledge to build a clear and sustainable cofounder relationship.\
URL:https://equilibriumzone.org/event/legal-foundation-101-how-to-decide-on-co-founding-terms-ownership-split-for-your-startup-2/
LOCATION:Online (Google Meet)
ATTACH;FMTTYPE=image/webp:https://equilibriumzone.org/wp-content/uploads/2026/04/imgi_2_522155179_18356503414158534_37937850740987432_n.webp
END:VEVENT
END:VCALENDAR